BEGIN:VCALENDAR
VERSION:2.0
PRODID:-//Thibodaux Regional Fitness Center - ECPv6.15.20//NONSGML v1.0//EN
CALSCALE:GREGORIAN
METHOD:PUBLISH
X-WR-CALNAME:Thibodaux Regional Fitness Center
X-ORIGINAL-URL:https://www.fitnesscenterofthibodauxregional.com
X-WR-CALDESC:Events for Thibodaux Regional Fitness Center
REFRESH-INTERVAL;VALUE=DURATION:PT1H
X-Robots-Tag:noindex
X-PUBLISHED-TTL:PT1H
BEGIN:VTIMEZONE
TZID:America/Chicago
BEGIN:DAYLIGHT
TZOFFSETFROM:-0600
TZOFFSETTO:-0500
TZNAME:CDT
DTSTART:20250309T080000
END:DAYLIGHT
BEGIN:STANDARD
TZOFFSETFROM:-0500
TZOFFSETTO:-0600
TZNAME:CST
DTSTART:20251102T070000
END:STANDARD
BEGIN:DAYLIGHT
TZOFFSETFROM:-0600
TZOFFSETTO:-0500
TZNAME:CDT
DTSTART:20260308T080000
END:DAYLIGHT
BEGIN:STANDARD
TZOFFSETFROM:-0500
TZOFFSETTO:-0600
TZNAME:CST
DTSTART:20261101T070000
END:STANDARD
BEGIN:DAYLIGHT
TZOFFSETFROM:-0600
TZOFFSETTO:-0500
TZNAME:CDT
DTSTART:20270314T080000
END:DAYLIGHT
BEGIN:STANDARD
TZOFFSETFROM:-0500
TZOFFSETTO:-0600
TZNAME:CST
DTSTART:20271107T070000
END:STANDARD
END:VTIMEZONE
BEGIN:VEVENT
DTSTART;TZID=America/Chicago:20260419T103000
DTEND;TZID=America/Chicago:20260419T112500
DTSTAMP:20260419T071258
CREATED:20230510T173037Z
LAST-MODIFIED:20240409T164749Z
UID:10152580-1776594600-1776597900@www.fitnesscenterofthibodauxregional.com
SUMMARY:LES MILLS VIRTUAL BODY BALANCE
DESCRIPTION:BODYBALANCE™ is a new yoga class for anyone and everyone. It uses a range of movements and motion set to music that will improve your mind\, your body and your life leaving you feeling calm and centered.
URL:https://www.fitnesscenterofthibodauxregional.com/event/les-mills-virtual-body-balance/2026-04-19/
LOCATION:Multi-Purpose Room
CATEGORIES:Les Mills Virtual,Yoga / Pilates
END:VEVENT
BEGIN:VEVENT
DTSTART;TZID=America/Chicago:20260426T103000
DTEND;TZID=America/Chicago:20260426T112500
DTSTAMP:20260419T071258
CREATED:20230510T173037Z
LAST-MODIFIED:20240409T164749Z
UID:10152907-1777199400-1777202700@www.fitnesscenterofthibodauxregional.com
SUMMARY:LES MILLS VIRTUAL BODY BALANCE
DESCRIPTION:BODYBALANCE™ is a new yoga class for anyone and everyone. It uses a range of movements and motion set to music that will improve your mind\, your body and your life leaving you feeling calm and centered.
URL:https://www.fitnesscenterofthibodauxregional.com/event/les-mills-virtual-body-balance/2026-04-26/
LOCATION:Multi-Purpose Room
CATEGORIES:Les Mills Virtual,Yoga / Pilates
END:VEVENT
BEGIN:VEVENT
DTSTART;TZID=America/Chicago:20260503T103000
DTEND;TZID=America/Chicago:20260503T112500
DTSTAMP:20260419T071258
CREATED:20230510T173037Z
LAST-MODIFIED:20240409T164749Z
UID:10152908-1777804200-1777807500@www.fitnesscenterofthibodauxregional.com
SUMMARY:LES MILLS VIRTUAL BODY BALANCE
DESCRIPTION:BODYBALANCE™ is a new yoga class for anyone and everyone. It uses a range of movements and motion set to music that will improve your mind\, your body and your life leaving you feeling calm and centered.
URL:https://www.fitnesscenterofthibodauxregional.com/event/les-mills-virtual-body-balance/2026-05-03/
LOCATION:Multi-Purpose Room
CATEGORIES:Les Mills Virtual,Yoga / Pilates
END:VEVENT
BEGIN:VEVENT
DTSTART;TZID=America/Chicago:20260510T103000
DTEND;TZID=America/Chicago:20260510T112500
DTSTAMP:20260419T071258
CREATED:20230510T173037Z
LAST-MODIFIED:20240409T164749Z
UID:10153143-1778409000-1778412300@www.fitnesscenterofthibodauxregional.com
SUMMARY:LES MILLS VIRTUAL BODY BALANCE
DESCRIPTION:BODYBALANCE™ is a new yoga class for anyone and everyone. It uses a range of movements and motion set to music that will improve your mind\, your body and your life leaving you feeling calm and centered.
URL:https://www.fitnesscenterofthibodauxregional.com/event/les-mills-virtual-body-balance/2026-05-10/
LOCATION:Multi-Purpose Room
CATEGORIES:Les Mills Virtual,Yoga / Pilates
END:VEVENT
BEGIN:VEVENT
DTSTART;TZID=America/Chicago:20260517T103000
DTEND;TZID=America/Chicago:20260517T112500
DTSTAMP:20260419T071258
CREATED:20230510T173037Z
LAST-MODIFIED:20240409T164749Z
UID:10153144-1779013800-1779017100@www.fitnesscenterofthibodauxregional.com
SUMMARY:LES MILLS VIRTUAL BODY BALANCE
DESCRIPTION:BODYBALANCE™ is a new yoga class for anyone and everyone. It uses a range of movements and motion set to music that will improve your mind\, your body and your life leaving you feeling calm and centered.
URL:https://www.fitnesscenterofthibodauxregional.com/event/les-mills-virtual-body-balance/2026-05-17/
LOCATION:Multi-Purpose Room
CATEGORIES:Les Mills Virtual,Yoga / Pilates
END:VEVENT
BEGIN:VEVENT
DTSTART;TZID=America/Chicago:20260524T103000
DTEND;TZID=America/Chicago:20260524T112500
DTSTAMP:20260419T071258
CREATED:20230510T173037Z
LAST-MODIFIED:20240409T164749Z
UID:10153442-1779618600-1779621900@www.fitnesscenterofthibodauxregional.com
SUMMARY:LES MILLS VIRTUAL BODY BALANCE
DESCRIPTION:BODYBALANCE™ is a new yoga class for anyone and everyone. It uses a range of movements and motion set to music that will improve your mind\, your body and your life leaving you feeling calm and centered.
URL:https://www.fitnesscenterofthibodauxregional.com/event/les-mills-virtual-body-balance/2026-05-24/
LOCATION:Multi-Purpose Room
CATEGORIES:Les Mills Virtual,Yoga / Pilates
END:VEVENT
BEGIN:VEVENT
DTSTART;TZID=America/Chicago:20260531T103000
DTEND;TZID=America/Chicago:20260531T112500
DTSTAMP:20260419T071258
CREATED:20230510T173037Z
LAST-MODIFIED:20240409T164749Z
UID:10153443-1780223400-1780226700@www.fitnesscenterofthibodauxregional.com
SUMMARY:LES MILLS VIRTUAL BODY BALANCE
DESCRIPTION:BODYBALANCE™ is a new yoga class for anyone and everyone. It uses a range of movements and motion set to music that will improve your mind\, your body and your life leaving you feeling calm and centered.
URL:https://www.fitnesscenterofthibodauxregional.com/event/les-mills-virtual-body-balance/2026-05-31/
LOCATION:Multi-Purpose Room
CATEGORIES:Les Mills Virtual,Yoga / Pilates
END:VEVENT
BEGIN:VEVENT
DTSTART;TZID=America/Chicago:20260607T103000
DTEND;TZID=America/Chicago:20260607T112500
DTSTAMP:20260419T071258
CREATED:20230510T173037Z
LAST-MODIFIED:20240409T164749Z
UID:10153781-1780828200-1780831500@www.fitnesscenterofthibodauxregional.com
SUMMARY:LES MILLS VIRTUAL BODY BALANCE
DESCRIPTION:BODYBALANCE™ is a new yoga class for anyone and everyone. It uses a range of movements and motion set to music that will improve your mind\, your body and your life leaving you feeling calm and centered.
URL:https://www.fitnesscenterofthibodauxregional.com/event/les-mills-virtual-body-balance/2026-06-07/
LOCATION:Multi-Purpose Room
CATEGORIES:Les Mills Virtual,Yoga / Pilates
END:VEVENT
BEGIN:VEVENT
DTSTART;TZID=America/Chicago:20260614T103000
DTEND;TZID=America/Chicago:20260614T112500
DTSTAMP:20260419T071258
CREATED:20230510T173037Z
LAST-MODIFIED:20240409T164749Z
UID:10154092-1781433000-1781436300@www.fitnesscenterofthibodauxregional.com
SUMMARY:LES MILLS VIRTUAL BODY BALANCE
DESCRIPTION:BODYBALANCE™ is a new yoga class for anyone and everyone. It uses a range of movements and motion set to music that will improve your mind\, your body and your life leaving you feeling calm and centered.
URL:https://www.fitnesscenterofthibodauxregional.com/event/les-mills-virtual-body-balance/2026-06-14/
LOCATION:Multi-Purpose Room
CATEGORIES:Les Mills Virtual,Yoga / Pilates
END:VEVENT
BEGIN:VEVENT
DTSTART;TZID=America/Chicago:20260621T103000
DTEND;TZID=America/Chicago:20260621T112500
DTSTAMP:20260419T071258
CREATED:20230510T173037Z
LAST-MODIFIED:20240409T164749Z
UID:10154093-1782037800-1782041100@www.fitnesscenterofthibodauxregional.com
SUMMARY:LES MILLS VIRTUAL BODY BALANCE
DESCRIPTION:BODYBALANCE™ is a new yoga class for anyone and everyone. It uses a range of movements and motion set to music that will improve your mind\, your body and your life leaving you feeling calm and centered.
URL:https://www.fitnesscenterofthibodauxregional.com/event/les-mills-virtual-body-balance/2026-06-21/
LOCATION:Multi-Purpose Room
CATEGORIES:Les Mills Virtual,Yoga / Pilates
END:VEVENT
BEGIN:VEVENT
DTSTART;TZID=America/Chicago:20260628T103000
DTEND;TZID=America/Chicago:20260628T112500
DTSTAMP:20260419T071258
CREATED:20230510T173037Z
LAST-MODIFIED:20240409T164749Z
UID:10154319-1782642600-1782645900@www.fitnesscenterofthibodauxregional.com
SUMMARY:LES MILLS VIRTUAL BODY BALANCE
DESCRIPTION:BODYBALANCE™ is a new yoga class for anyone and everyone. It uses a range of movements and motion set to music that will improve your mind\, your body and your life leaving you feeling calm and centered.
URL:https://www.fitnesscenterofthibodauxregional.com/event/les-mills-virtual-body-balance/2026-06-28/
LOCATION:Multi-Purpose Room
CATEGORIES:Les Mills Virtual,Yoga / Pilates
END:VEVENT
BEGIN:VEVENT
DTSTART;TZID=America/Chicago:20260705T103000
DTEND;TZID=America/Chicago:20260705T112500
DTSTAMP:20260419T071258
CREATED:20230510T173037Z
LAST-MODIFIED:20240409T164749Z
UID:10154320-1783247400-1783250700@www.fitnesscenterofthibodauxregional.com
SUMMARY:LES MILLS VIRTUAL BODY BALANCE
DESCRIPTION:BODYBALANCE™ is a new yoga class for anyone and everyone. It uses a range of movements and motion set to music that will improve your mind\, your body and your life leaving you feeling calm and centered.
URL:https://www.fitnesscenterofthibodauxregional.com/event/les-mills-virtual-body-balance/2026-07-05/
LOCATION:Multi-Purpose Room
CATEGORIES:Les Mills Virtual,Yoga / Pilates
END:VEVENT
BEGIN:VEVENT
DTSTART;TZID=America/Chicago:20260712T103000
DTEND;TZID=America/Chicago:20260712T112500
DTSTAMP:20260419T071258
CREATED:20230510T173037Z
LAST-MODIFIED:20240409T164749Z
UID:10154643-1783852200-1783855500@www.fitnesscenterofthibodauxregional.com
SUMMARY:LES MILLS VIRTUAL BODY BALANCE
DESCRIPTION:BODYBALANCE™ is a new yoga class for anyone and everyone. It uses a range of movements and motion set to music that will improve your mind\, your body and your life leaving you feeling calm and centered.
URL:https://www.fitnesscenterofthibodauxregional.com/event/les-mills-virtual-body-balance/2026-07-12/
LOCATION:Multi-Purpose Room
CATEGORIES:Les Mills Virtual,Yoga / Pilates
END:VEVENT
END:VCALENDAR