BEGIN:VCALENDAR
VERSION:2.0
PRODID:-//Thibodaux Regional Fitness Center - ECPv6.15.20//NONSGML v1.0//EN
CALSCALE:GREGORIAN
METHOD:PUBLISH
X-WR-CALNAME:Thibodaux Regional Fitness Center
X-ORIGINAL-URL:https://www.fitnesscenterofthibodauxregional.com
X-WR-CALDESC:Events for Thibodaux Regional Fitness Center
REFRESH-INTERVAL;VALUE=DURATION:PT1H
X-Robots-Tag:noindex
X-PUBLISHED-TTL:PT1H
BEGIN:VTIMEZONE
TZID:America/Chicago
BEGIN:DAYLIGHT
TZOFFSETFROM:-0600
TZOFFSETTO:-0500
TZNAME:CDT
DTSTART:20250309T080000
END:DAYLIGHT
BEGIN:STANDARD
TZOFFSETFROM:-0500
TZOFFSETTO:-0600
TZNAME:CST
DTSTART:20251102T070000
END:STANDARD
BEGIN:DAYLIGHT
TZOFFSETFROM:-0600
TZOFFSETTO:-0500
TZNAME:CDT
DTSTART:20260308T080000
END:DAYLIGHT
BEGIN:STANDARD
TZOFFSETFROM:-0500
TZOFFSETTO:-0600
TZNAME:CST
DTSTART:20261101T070000
END:STANDARD
BEGIN:DAYLIGHT
TZOFFSETFROM:-0600
TZOFFSETTO:-0500
TZNAME:CDT
DTSTART:20270314T080000
END:DAYLIGHT
BEGIN:STANDARD
TZOFFSETFROM:-0500
TZOFFSETTO:-0600
TZNAME:CST
DTSTART:20271107T070000
END:STANDARD
END:VTIMEZONE
BEGIN:VEVENT
DTSTART;TZID=America/Chicago:20260422T131500
DTEND;TZID=America/Chicago:20260422T134500
DTSTAMP:20260419T173613
CREATED:20230512T145131Z
LAST-MODIFIED:20240409T152401Z
UID:10152732-1776863700-1776865500@www.fitnesscenterofthibodauxregional.com
SUMMARY:LES MILLS VIRTUAL CORE
DESCRIPTION:LES MILLS CORE provides the vital ingredient for a stronger body while chiseling your waist line. A stronger core makes you better at all things you do – it’s the glue that holds everything together
URL:https://www.fitnesscenterofthibodauxregional.com/event/les-mills-virtual-core-2/2026-04-22/
LOCATION:Multi-Purpose Room
CATEGORIES:Cardio / Strength,Les Mills Virtual
END:VEVENT
BEGIN:VEVENT
DTSTART;TZID=America/Chicago:20260424T131500
DTEND;TZID=America/Chicago:20260424T134500
DTSTAMP:20260419T173613
CREATED:20230515T122058Z
LAST-MODIFIED:20240409T152305Z
UID:10152853-1777036500-1777038300@www.fitnesscenterofthibodauxregional.com
SUMMARY:LES MILLS VIRTUAL CORE
DESCRIPTION:LES MILLS CORE provides the vital ingredient for a stronger body while chiseling your waist line. A stronger core makes you better at all things you do – it’s the glue that holds everything together
URL:https://www.fitnesscenterofthibodauxregional.com/event/les-mills-virtual-core-3/2026-04-24/
LOCATION:Multi-Purpose Room
CATEGORIES:Cardio / Strength,Les Mills Virtual
END:VEVENT
BEGIN:VEVENT
DTSTART;TZID=America/Chicago:20260429T131500
DTEND;TZID=America/Chicago:20260429T134500
DTSTAMP:20260419T173613
CREATED:20230512T145131Z
LAST-MODIFIED:20240409T152401Z
UID:10152733-1777468500-1777470300@www.fitnesscenterofthibodauxregional.com
SUMMARY:LES MILLS VIRTUAL CORE
DESCRIPTION:LES MILLS CORE provides the vital ingredient for a stronger body while chiseling your waist line. A stronger core makes you better at all things you do – it’s the glue that holds everything together
URL:https://www.fitnesscenterofthibodauxregional.com/event/les-mills-virtual-core-2/2026-04-29/
LOCATION:Multi-Purpose Room
CATEGORIES:Cardio / Strength,Les Mills Virtual
END:VEVENT
BEGIN:VEVENT
DTSTART;TZID=America/Chicago:20260501T131500
DTEND;TZID=America/Chicago:20260501T134500
DTSTAMP:20260419T173614
CREATED:20230515T122058Z
LAST-MODIFIED:20240409T152305Z
UID:10152854-1777641300-1777643100@www.fitnesscenterofthibodauxregional.com
SUMMARY:LES MILLS VIRTUAL CORE
DESCRIPTION:LES MILLS CORE provides the vital ingredient for a stronger body while chiseling your waist line. A stronger core makes you better at all things you do – it’s the glue that holds everything together
URL:https://www.fitnesscenterofthibodauxregional.com/event/les-mills-virtual-core-3/2026-05-01/
LOCATION:Multi-Purpose Room
CATEGORIES:Cardio / Strength,Les Mills Virtual
END:VEVENT
BEGIN:VEVENT
DTSTART;TZID=America/Chicago:20260506T131500
DTEND;TZID=America/Chicago:20260506T134500
DTSTAMP:20260419T173614
CREATED:20230512T145131Z
LAST-MODIFIED:20240409T152401Z
UID:10152998-1778073300-1778075100@www.fitnesscenterofthibodauxregional.com
SUMMARY:LES MILLS VIRTUAL CORE
DESCRIPTION:LES MILLS CORE provides the vital ingredient for a stronger body while chiseling your waist line. A stronger core makes you better at all things you do – it’s the glue that holds everything together
URL:https://www.fitnesscenterofthibodauxregional.com/event/les-mills-virtual-core-2/2026-05-06/
LOCATION:Multi-Purpose Room
CATEGORIES:Cardio / Strength,Les Mills Virtual
END:VEVENT
BEGIN:VEVENT
DTSTART;TZID=America/Chicago:20260508T131500
DTEND;TZID=America/Chicago:20260508T134500
DTSTAMP:20260419T173614
CREATED:20230515T122058Z
LAST-MODIFIED:20240409T152305Z
UID:10153079-1778246100-1778247900@www.fitnesscenterofthibodauxregional.com
SUMMARY:LES MILLS VIRTUAL CORE
DESCRIPTION:LES MILLS CORE provides the vital ingredient for a stronger body while chiseling your waist line. A stronger core makes you better at all things you do – it’s the glue that holds everything together
URL:https://www.fitnesscenterofthibodauxregional.com/event/les-mills-virtual-core-3/2026-05-08/
LOCATION:Multi-Purpose Room
CATEGORIES:Cardio / Strength,Les Mills Virtual
END:VEVENT
BEGIN:VEVENT
DTSTART;TZID=America/Chicago:20260513T131500
DTEND;TZID=America/Chicago:20260513T134500
DTSTAMP:20260419T173614
CREATED:20230512T145131Z
LAST-MODIFIED:20240409T152401Z
UID:10153302-1778678100-1778679900@www.fitnesscenterofthibodauxregional.com
SUMMARY:LES MILLS VIRTUAL CORE
DESCRIPTION:LES MILLS CORE provides the vital ingredient for a stronger body while chiseling your waist line. A stronger core makes you better at all things you do – it’s the glue that holds everything together
URL:https://www.fitnesscenterofthibodauxregional.com/event/les-mills-virtual-core-2/2026-05-13/
LOCATION:Multi-Purpose Room
CATEGORIES:Cardio / Strength,Les Mills Virtual
END:VEVENT
BEGIN:VEVENT
DTSTART;TZID=America/Chicago:20260515T131500
DTEND;TZID=America/Chicago:20260515T134500
DTSTAMP:20260419T173614
CREATED:20230515T122058Z
LAST-MODIFIED:20240409T152305Z
UID:10153080-1778850900-1778852700@www.fitnesscenterofthibodauxregional.com
SUMMARY:LES MILLS VIRTUAL CORE
DESCRIPTION:LES MILLS CORE provides the vital ingredient for a stronger body while chiseling your waist line. A stronger core makes you better at all things you do – it’s the glue that holds everything together
URL:https://www.fitnesscenterofthibodauxregional.com/event/les-mills-virtual-core-3/2026-05-15/
LOCATION:Multi-Purpose Room
CATEGORIES:Cardio / Strength,Les Mills Virtual
END:VEVENT
BEGIN:VEVENT
DTSTART;TZID=America/Chicago:20260520T131500
DTEND;TZID=America/Chicago:20260520T134500
DTSTAMP:20260419T173614
CREATED:20230512T145131Z
LAST-MODIFIED:20240409T152401Z
UID:10153303-1779282900-1779284700@www.fitnesscenterofthibodauxregional.com
SUMMARY:LES MILLS VIRTUAL CORE
DESCRIPTION:LES MILLS CORE provides the vital ingredient for a stronger body while chiseling your waist line. A stronger core makes you better at all things you do – it’s the glue that holds everything together
URL:https://www.fitnesscenterofthibodauxregional.com/event/les-mills-virtual-core-2/2026-05-20/
LOCATION:Multi-Purpose Room
CATEGORIES:Cardio / Strength,Les Mills Virtual
END:VEVENT
BEGIN:VEVENT
DTSTART;TZID=America/Chicago:20260522T131500
DTEND;TZID=America/Chicago:20260522T134500
DTSTAMP:20260419T173614
CREATED:20230515T122058Z
LAST-MODIFIED:20240409T152305Z
UID:10153403-1779455700-1779457500@www.fitnesscenterofthibodauxregional.com
SUMMARY:LES MILLS VIRTUAL CORE
DESCRIPTION:LES MILLS CORE provides the vital ingredient for a stronger body while chiseling your waist line. A stronger core makes you better at all things you do – it’s the glue that holds everything together
URL:https://www.fitnesscenterofthibodauxregional.com/event/les-mills-virtual-core-3/2026-05-22/
LOCATION:Multi-Purpose Room
CATEGORIES:Cardio / Strength,Les Mills Virtual
END:VEVENT
BEGIN:VEVENT
DTSTART;TZID=America/Chicago:20260527T131500
DTEND;TZID=America/Chicago:20260527T134500
DTSTAMP:20260419T173614
CREATED:20230512T145131Z
LAST-MODIFIED:20240409T152401Z
UID:10153603-1779887700-1779889500@www.fitnesscenterofthibodauxregional.com
SUMMARY:LES MILLS VIRTUAL CORE
DESCRIPTION:LES MILLS CORE provides the vital ingredient for a stronger body while chiseling your waist line. A stronger core makes you better at all things you do – it’s the glue that holds everything together
URL:https://www.fitnesscenterofthibodauxregional.com/event/les-mills-virtual-core-2/2026-05-27/
LOCATION:Multi-Purpose Room
CATEGORIES:Cardio / Strength,Les Mills Virtual
END:VEVENT
BEGIN:VEVENT
DTSTART;TZID=America/Chicago:20260529T131500
DTEND;TZID=America/Chicago:20260529T134500
DTSTAMP:20260419T173614
CREATED:20230515T122058Z
LAST-MODIFIED:20240409T152305Z
UID:10153724-1780060500-1780062300@www.fitnesscenterofthibodauxregional.com
SUMMARY:LES MILLS VIRTUAL CORE
DESCRIPTION:LES MILLS CORE provides the vital ingredient for a stronger body while chiseling your waist line. A stronger core makes you better at all things you do – it’s the glue that holds everything together
URL:https://www.fitnesscenterofthibodauxregional.com/event/les-mills-virtual-core-3/2026-05-29/
LOCATION:Multi-Purpose Room
CATEGORIES:Cardio / Strength,Les Mills Virtual
END:VEVENT
BEGIN:VEVENT
DTSTART;TZID=America/Chicago:20260603T131500
DTEND;TZID=America/Chicago:20260603T134500
DTSTAMP:20260419T173614
CREATED:20230512T145131Z
LAST-MODIFIED:20240409T152401Z
UID:10153604-1780492500-1780494300@www.fitnesscenterofthibodauxregional.com
SUMMARY:LES MILLS VIRTUAL CORE
DESCRIPTION:LES MILLS CORE provides the vital ingredient for a stronger body while chiseling your waist line. A stronger core makes you better at all things you do – it’s the glue that holds everything together
URL:https://www.fitnesscenterofthibodauxregional.com/event/les-mills-virtual-core-2/2026-06-03/
LOCATION:Multi-Purpose Room
CATEGORIES:Cardio / Strength,Les Mills Virtual
END:VEVENT
BEGIN:VEVENT
DTSTART;TZID=America/Chicago:20260605T131500
DTEND;TZID=America/Chicago:20260605T134500
DTSTAMP:20260419T173614
CREATED:20230515T122058Z
LAST-MODIFIED:20240409T152305Z
UID:10153725-1780665300-1780667100@www.fitnesscenterofthibodauxregional.com
SUMMARY:LES MILLS VIRTUAL CORE
DESCRIPTION:LES MILLS CORE provides the vital ingredient for a stronger body while chiseling your waist line. A stronger core makes you better at all things you do – it’s the glue that holds everything together
URL:https://www.fitnesscenterofthibodauxregional.com/event/les-mills-virtual-core-3/2026-06-05/
LOCATION:Multi-Purpose Room
CATEGORIES:Cardio / Strength,Les Mills Virtual
END:VEVENT
BEGIN:VEVENT
DTSTART;TZID=America/Chicago:20260610T131500
DTEND;TZID=America/Chicago:20260610T134500
DTSTAMP:20260419T173614
CREATED:20230512T145131Z
LAST-MODIFIED:20240409T152401Z
UID:10153907-1781097300-1781099100@www.fitnesscenterofthibodauxregional.com
SUMMARY:LES MILLS VIRTUAL CORE
DESCRIPTION:LES MILLS CORE provides the vital ingredient for a stronger body while chiseling your waist line. A stronger core makes you better at all things you do – it’s the glue that holds everything together
URL:https://www.fitnesscenterofthibodauxregional.com/event/les-mills-virtual-core-2/2026-06-10/
LOCATION:Multi-Purpose Room
CATEGORIES:Cardio / Strength,Les Mills Virtual
END:VEVENT
BEGIN:VEVENT
DTSTART;TZID=America/Chicago:20260612T131500
DTEND;TZID=America/Chicago:20260612T134500
DTSTAMP:20260419T173614
CREATED:20230515T122058Z
LAST-MODIFIED:20240409T152305Z
UID:10154028-1781270100-1781271900@www.fitnesscenterofthibodauxregional.com
SUMMARY:LES MILLS VIRTUAL CORE
DESCRIPTION:LES MILLS CORE provides the vital ingredient for a stronger body while chiseling your waist line. A stronger core makes you better at all things you do – it’s the glue that holds everything together
URL:https://www.fitnesscenterofthibodauxregional.com/event/les-mills-virtual-core-3/2026-06-12/
LOCATION:Multi-Purpose Room
CATEGORIES:Cardio / Strength,Les Mills Virtual
END:VEVENT
BEGIN:VEVENT
DTSTART;TZID=America/Chicago:20260617T131500
DTEND;TZID=America/Chicago:20260617T134500
DTSTAMP:20260419T173614
CREATED:20230512T145131Z
LAST-MODIFIED:20240409T152401Z
UID:10153908-1781702100-1781703900@www.fitnesscenterofthibodauxregional.com
SUMMARY:LES MILLS VIRTUAL CORE
DESCRIPTION:LES MILLS CORE provides the vital ingredient for a stronger body while chiseling your waist line. A stronger core makes you better at all things you do – it’s the glue that holds everything together
URL:https://www.fitnesscenterofthibodauxregional.com/event/les-mills-virtual-core-2/2026-06-17/
LOCATION:Multi-Purpose Room
CATEGORIES:Cardio / Strength,Les Mills Virtual
END:VEVENT
BEGIN:VEVENT
DTSTART;TZID=America/Chicago:20260619T131500
DTEND;TZID=America/Chicago:20260619T134500
DTSTAMP:20260419T173614
CREATED:20230515T122058Z
LAST-MODIFIED:20240409T152305Z
UID:10154029-1781874900-1781876700@www.fitnesscenterofthibodauxregional.com
SUMMARY:LES MILLS VIRTUAL CORE
DESCRIPTION:LES MILLS CORE provides the vital ingredient for a stronger body while chiseling your waist line. A stronger core makes you better at all things you do – it’s the glue that holds everything together
URL:https://www.fitnesscenterofthibodauxregional.com/event/les-mills-virtual-core-3/2026-06-19/
LOCATION:Multi-Purpose Room
CATEGORIES:Cardio / Strength,Les Mills Virtual
END:VEVENT
BEGIN:VEVENT
DTSTART;TZID=America/Chicago:20260624T131500
DTEND;TZID=America/Chicago:20260624T134500
DTSTAMP:20260419T173614
CREATED:20230512T145131Z
LAST-MODIFIED:20240409T152401Z
UID:10154209-1782306900-1782308700@www.fitnesscenterofthibodauxregional.com
SUMMARY:LES MILLS VIRTUAL CORE
DESCRIPTION:LES MILLS CORE provides the vital ingredient for a stronger body while chiseling your waist line. A stronger core makes you better at all things you do – it’s the glue that holds everything together
URL:https://www.fitnesscenterofthibodauxregional.com/event/les-mills-virtual-core-2/2026-06-24/
LOCATION:Multi-Purpose Room
CATEGORIES:Cardio / Strength,Les Mills Virtual
END:VEVENT
BEGIN:VEVENT
DTSTART;TZID=America/Chicago:20260626T131500
DTEND;TZID=America/Chicago:20260626T134500
DTSTAMP:20260419T173614
CREATED:20230515T122058Z
LAST-MODIFIED:20240409T152305Z
UID:10154270-1782479700-1782481500@www.fitnesscenterofthibodauxregional.com
SUMMARY:LES MILLS VIRTUAL CORE
DESCRIPTION:LES MILLS CORE provides the vital ingredient for a stronger body while chiseling your waist line. A stronger core makes you better at all things you do – it’s the glue that holds everything together
URL:https://www.fitnesscenterofthibodauxregional.com/event/les-mills-virtual-core-3/2026-06-26/
LOCATION:Multi-Purpose Room
CATEGORIES:Cardio / Strength,Les Mills Virtual
END:VEVENT
BEGIN:VEVENT
DTSTART;TZID=America/Chicago:20260701T131500
DTEND;TZID=America/Chicago:20260701T134500
DTSTAMP:20260419T173614
CREATED:20230512T145131Z
LAST-MODIFIED:20240409T152401Z
UID:10154474-1782911700-1782913500@www.fitnesscenterofthibodauxregional.com
SUMMARY:LES MILLS VIRTUAL CORE
DESCRIPTION:LES MILLS CORE provides the vital ingredient for a stronger body while chiseling your waist line. A stronger core makes you better at all things you do – it’s the glue that holds everything together
URL:https://www.fitnesscenterofthibodauxregional.com/event/les-mills-virtual-core-2/2026-07-01/
LOCATION:Multi-Purpose Room
CATEGORIES:Cardio / Strength,Les Mills Virtual
END:VEVENT
BEGIN:VEVENT
DTSTART;TZID=America/Chicago:20260703T131500
DTEND;TZID=America/Chicago:20260703T134500
DTSTAMP:20260419T173614
CREATED:20230515T122058Z
LAST-MODIFIED:20240409T152305Z
UID:10154596-1783084500-1783086300@www.fitnesscenterofthibodauxregional.com
SUMMARY:LES MILLS VIRTUAL CORE
DESCRIPTION:LES MILLS CORE provides the vital ingredient for a stronger body while chiseling your waist line. A stronger core makes you better at all things you do – it’s the glue that holds everything together
URL:https://www.fitnesscenterofthibodauxregional.com/event/les-mills-virtual-core-3/2026-07-03/
LOCATION:Multi-Purpose Room
CATEGORIES:Cardio / Strength,Les Mills Virtual
END:VEVENT
BEGIN:VEVENT
DTSTART;TZID=America/Chicago:20260708T131500
DTEND;TZID=America/Chicago:20260708T134500
DTSTAMP:20260419T173614
CREATED:20230512T145131Z
LAST-MODIFIED:20240409T152401Z
UID:10154475-1783516500-1783518300@www.fitnesscenterofthibodauxregional.com
SUMMARY:LES MILLS VIRTUAL CORE
DESCRIPTION:LES MILLS CORE provides the vital ingredient for a stronger body while chiseling your waist line. A stronger core makes you better at all things you do – it’s the glue that holds everything together
URL:https://www.fitnesscenterofthibodauxregional.com/event/les-mills-virtual-core-2/2026-07-08/
LOCATION:Multi-Purpose Room
CATEGORIES:Cardio / Strength,Les Mills Virtual
END:VEVENT
BEGIN:VEVENT
DTSTART;TZID=America/Chicago:20260710T131500
DTEND;TZID=America/Chicago:20260710T134500
DTSTAMP:20260419T173614
CREATED:20230515T122058Z
LAST-MODIFIED:20240409T152305Z
UID:10154597-1783689300-1783691100@www.fitnesscenterofthibodauxregional.com
SUMMARY:LES MILLS VIRTUAL CORE
DESCRIPTION:LES MILLS CORE provides the vital ingredient for a stronger body while chiseling your waist line. A stronger core makes you better at all things you do – it’s the glue that holds everything together
URL:https://www.fitnesscenterofthibodauxregional.com/event/les-mills-virtual-core-3/2026-07-10/
LOCATION:Multi-Purpose Room
CATEGORIES:Cardio / Strength,Les Mills Virtual
END:VEVENT
END:VCALENDAR