BEGIN:VCALENDAR
VERSION:2.0
PRODID:-//Thibodaux Regional Fitness Center - ECPv6.15.20//NONSGML v1.0//EN
CALSCALE:GREGORIAN
METHOD:PUBLISH
X-ORIGINAL-URL:https://www.fitnesscenterofthibodauxregional.com
X-WR-CALDESC:Events for Thibodaux Regional Fitness Center
REFRESH-INTERVAL;VALUE=DURATION:PT1H
X-Robots-Tag:noindex
X-PUBLISHED-TTL:PT1H
BEGIN:VTIMEZONE
TZID:America/Chicago
BEGIN:DAYLIGHT
TZOFFSETFROM:-0600
TZOFFSETTO:-0500
TZNAME:CDT
DTSTART:20250309T080000
END:DAYLIGHT
BEGIN:STANDARD
TZOFFSETFROM:-0500
TZOFFSETTO:-0600
TZNAME:CST
DTSTART:20251102T070000
END:STANDARD
BEGIN:DAYLIGHT
TZOFFSETFROM:-0600
TZOFFSETTO:-0500
TZNAME:CDT
DTSTART:20260308T080000
END:DAYLIGHT
BEGIN:STANDARD
TZOFFSETFROM:-0500
TZOFFSETTO:-0600
TZNAME:CST
DTSTART:20261101T070000
END:STANDARD
BEGIN:DAYLIGHT
TZOFFSETFROM:-0600
TZOFFSETTO:-0500
TZNAME:CDT
DTSTART:20270314T080000
END:DAYLIGHT
BEGIN:STANDARD
TZOFFSETFROM:-0500
TZOFFSETTO:-0600
TZNAME:CST
DTSTART:20271107T070000
END:STANDARD
END:VTIMEZONE
BEGIN:VEVENT
DTSTART;TZID=America/Chicago:20260709T100000
DTEND;TZID=America/Chicago:20260709T110000
DTSTAMP:20260425T074955
CREATED:20230515T155604Z
LAST-MODIFIED:20241104T164304Z
UID:10154523-1783591200-1783594800@www.fitnesscenterofthibodauxregional.com
SUMMARY:MINDFULNESS YOGA
DESCRIPTION:Stretch. Relax. Meditate. Being mindful means being present in whatever you’re doing. It’s a challenge but has an important place in our well-being. Learn how you can support your fitness and mindfulness practice with a sample of gentle yoga asanas (poses)\, long relaxation\, and short meditation.
URL:https://www.fitnesscenterofthibodauxregional.com/event/mindful-yoga-2/2026-07-09/
LOCATION:Mind/Body Room
CATEGORIES:Yoga / Pilates
END:VEVENT
BEGIN:VEVENT
DTSTART;TZID=America/Chicago:20260716T100000
DTEND;TZID=America/Chicago:20260716T110000
DTSTAMP:20260425T074955
CREATED:20230515T155604Z
LAST-MODIFIED:20241104T164304Z
UID:10154774-1784196000-1784199600@www.fitnesscenterofthibodauxregional.com
SUMMARY:MINDFULNESS YOGA
DESCRIPTION:Stretch. Relax. Meditate. Being mindful means being present in whatever you’re doing. It’s a challenge but has an important place in our well-being. Learn how you can support your fitness and mindfulness practice with a sample of gentle yoga asanas (poses)\, long relaxation\, and short meditation.
URL:https://www.fitnesscenterofthibodauxregional.com/event/mindful-yoga-2/2026-07-16/
LOCATION:Mind/Body Room
CATEGORIES:Yoga / Pilates
END:VEVENT
BEGIN:VEVENT
DTSTART;TZID=America/Chicago:20260723T100000
DTEND;TZID=America/Chicago:20260723T110000
DTSTAMP:20260425T074955
CREATED:20230515T155604Z
LAST-MODIFIED:20241104T164304Z
UID:10154775-1784800800-1784804400@www.fitnesscenterofthibodauxregional.com
SUMMARY:MINDFULNESS YOGA
DESCRIPTION:Stretch. Relax. Meditate. Being mindful means being present in whatever you’re doing. It’s a challenge but has an important place in our well-being. Learn how you can support your fitness and mindfulness practice with a sample of gentle yoga asanas (poses)\, long relaxation\, and short meditation.
URL:https://www.fitnesscenterofthibodauxregional.com/event/mindful-yoga-2/2026-07-23/
LOCATION:Mind/Body Room
CATEGORIES:Yoga / Pilates
END:VEVENT
END:VCALENDAR