BEGIN:VCALENDAR
VERSION:2.0
PRODID:-//Thibodaux Regional Fitness Center - ECPv6.15.20//NONSGML v1.0//EN
CALSCALE:GREGORIAN
METHOD:PUBLISH
X-ORIGINAL-URL:https://www.fitnesscenterofthibodauxregional.com
X-WR-CALDESC:Events for Thibodaux Regional Fitness Center
REFRESH-INTERVAL;VALUE=DURATION:PT1H
X-Robots-Tag:noindex
X-PUBLISHED-TTL:PT1H
BEGIN:VTIMEZONE
TZID:America/Chicago
BEGIN:DAYLIGHT
TZOFFSETFROM:-0600
TZOFFSETTO:-0500
TZNAME:CDT
DTSTART:20240310T080000
END:DAYLIGHT
BEGIN:STANDARD
TZOFFSETFROM:-0500
TZOFFSETTO:-0600
TZNAME:CST
DTSTART:20241103T070000
END:STANDARD
BEGIN:DAYLIGHT
TZOFFSETFROM:-0600
TZOFFSETTO:-0500
TZNAME:CDT
DTSTART:20250309T080000
END:DAYLIGHT
BEGIN:STANDARD
TZOFFSETFROM:-0500
TZOFFSETTO:-0600
TZNAME:CST
DTSTART:20251102T070000
END:STANDARD
BEGIN:DAYLIGHT
TZOFFSETFROM:-0600
TZOFFSETTO:-0500
TZNAME:CDT
DTSTART:20260308T080000
END:DAYLIGHT
BEGIN:STANDARD
TZOFFSETFROM:-0500
TZOFFSETTO:-0600
TZNAME:CST
DTSTART:20261101T070000
END:STANDARD
BEGIN:DAYLIGHT
TZOFFSETFROM:-0600
TZOFFSETTO:-0500
TZNAME:CDT
DTSTART:20270314T080000
END:DAYLIGHT
BEGIN:STANDARD
TZOFFSETFROM:-0500
TZOFFSETTO:-0600
TZNAME:CST
DTSTART:20271107T070000
END:STANDARD
END:VTIMEZONE
BEGIN:VEVENT
DTSTART;TZID=America/Chicago:20260415T163000
DTEND;TZID=America/Chicago:20260415T171500
DTSTAMP:20260421T053218
CREATED:20230512T155823Z
LAST-MODIFIED:20240624T172830Z
UID:10152480-1776270600-1776273300@www.fitnesscenterofthibodauxregional.com
SUMMARY:LES MILLS BODY COMBAT 45
DESCRIPTION:The same fight on a trimmed down time frame! Get more bang for your buck with this 45-minute time slot. BODY COMBAT is a high-energy martial arts-inspired workout that is totally non-contact. Your instructor will lead you through an energetic class packed with charged music\, allowing you to alleviate some stress or just get a good sweat in. Zero experience needed. All levels invited.
URL:https://www.fitnesscenterofthibodauxregional.com/event/body-combat-45/2026-04-15/
LOCATION:Group Exercise Room
CATEGORIES:Cardio / Strength,Les Mills
END:VEVENT
BEGIN:VEVENT
DTSTART;TZID=America/Chicago:20260408T163000
DTEND;TZID=America/Chicago:20260408T171500
DTSTAMP:20260421T053218
CREATED:20230512T155823Z
LAST-MODIFIED:20240624T172830Z
UID:10152142-1775665800-1775668500@www.fitnesscenterofthibodauxregional.com
SUMMARY:LES MILLS BODY COMBAT 45
DESCRIPTION:The same fight on a trimmed down time frame! Get more bang for your buck with this 45-minute time slot. BODY COMBAT is a high-energy martial arts-inspired workout that is totally non-contact. Your instructor will lead you through an energetic class packed with charged music\, allowing you to alleviate some stress or just get a good sweat in. Zero experience needed. All levels invited.
URL:https://www.fitnesscenterofthibodauxregional.com/event/body-combat-45/2026-04-08/
LOCATION:Group Exercise Room
CATEGORIES:Cardio / Strength,Les Mills
END:VEVENT
BEGIN:VEVENT
DTSTART;TZID=America/Chicago:20260401T163000
DTEND;TZID=America/Chicago:20260401T171500
DTSTAMP:20260421T053218
CREATED:20230512T155823Z
LAST-MODIFIED:20240624T172830Z
UID:10152141-1775061000-1775063700@www.fitnesscenterofthibodauxregional.com
SUMMARY:LES MILLS BODY COMBAT 45
DESCRIPTION:The same fight on a trimmed down time frame! Get more bang for your buck with this 45-minute time slot. BODY COMBAT is a high-energy martial arts-inspired workout that is totally non-contact. Your instructor will lead you through an energetic class packed with charged music\, allowing you to alleviate some stress or just get a good sweat in. Zero experience needed. All levels invited.
URL:https://www.fitnesscenterofthibodauxregional.com/event/body-combat-45/2026-04-01/
LOCATION:Group Exercise Room
CATEGORIES:Cardio / Strength,Les Mills
END:VEVENT
BEGIN:VEVENT
DTSTART;TZID=America/Chicago:20260325T163000
DTEND;TZID=America/Chicago:20260325T171500
DTSTAMP:20260421T053218
CREATED:20230512T155823Z
LAST-MODIFIED:20240624T172830Z
UID:10151901-1774456200-1774458900@www.fitnesscenterofthibodauxregional.com
SUMMARY:LES MILLS BODY COMBAT 45
DESCRIPTION:The same fight on a trimmed down time frame! Get more bang for your buck with this 45-minute time slot. BODY COMBAT is a high-energy martial arts-inspired workout that is totally non-contact. Your instructor will lead you through an energetic class packed with charged music\, allowing you to alleviate some stress or just get a good sweat in. Zero experience needed. All levels invited.
URL:https://www.fitnesscenterofthibodauxregional.com/event/body-combat-45/2026-03-25/
LOCATION:Group Exercise Room
CATEGORIES:Cardio / Strength,Les Mills
END:VEVENT
BEGIN:VEVENT
DTSTART;TZID=America/Chicago:20260318T163000
DTEND;TZID=America/Chicago:20260318T171500
DTSTAMP:20260421T053218
CREATED:20230512T155823Z
LAST-MODIFIED:20240624T172830Z
UID:10151900-1773851400-1773854100@www.fitnesscenterofthibodauxregional.com
SUMMARY:LES MILLS BODY COMBAT 45
DESCRIPTION:The same fight on a trimmed down time frame! Get more bang for your buck with this 45-minute time slot. BODY COMBAT is a high-energy martial arts-inspired workout that is totally non-contact. Your instructor will lead you through an energetic class packed with charged music\, allowing you to alleviate some stress or just get a good sweat in. Zero experience needed. All levels invited.
URL:https://www.fitnesscenterofthibodauxregional.com/event/body-combat-45/2026-03-18/
LOCATION:Group Exercise Room
CATEGORIES:Cardio / Strength,Les Mills
END:VEVENT
BEGIN:VEVENT
DTSTART;TZID=America/Chicago:20260311T163000
DTEND;TZID=America/Chicago:20260311T171500
DTSTAMP:20260421T053218
CREATED:20230512T155823Z
LAST-MODIFIED:20240624T172830Z
UID:10151566-1773246600-1773249300@www.fitnesscenterofthibodauxregional.com
SUMMARY:LES MILLS BODY COMBAT 45
DESCRIPTION:The same fight on a trimmed down time frame! Get more bang for your buck with this 45-minute time slot. BODY COMBAT is a high-energy martial arts-inspired workout that is totally non-contact. Your instructor will lead you through an energetic class packed with charged music\, allowing you to alleviate some stress or just get a good sweat in. Zero experience needed. All levels invited.
URL:https://www.fitnesscenterofthibodauxregional.com/event/body-combat-45/2026-03-11/
LOCATION:Group Exercise Room
CATEGORIES:Cardio / Strength,Les Mills
END:VEVENT
BEGIN:VEVENT
DTSTART;TZID=America/Chicago:20260304T163000
DTEND;TZID=America/Chicago:20260304T171500
DTSTAMP:20260421T053218
CREATED:20230512T155823Z
LAST-MODIFIED:20240624T172830Z
UID:10151387-1772641800-1772644500@www.fitnesscenterofthibodauxregional.com
SUMMARY:LES MILLS BODY COMBAT 45
DESCRIPTION:The same fight on a trimmed down time frame! Get more bang for your buck with this 45-minute time slot. BODY COMBAT is a high-energy martial arts-inspired workout that is totally non-contact. Your instructor will lead you through an energetic class packed with charged music\, allowing you to alleviate some stress or just get a good sweat in. Zero experience needed. All levels invited.
URL:https://www.fitnesscenterofthibodauxregional.com/event/body-combat-45/2026-03-04/
LOCATION:Group Exercise Room
CATEGORIES:Cardio / Strength,Les Mills
END:VEVENT
BEGIN:VEVENT
DTSTART;TZID=America/Chicago:20260225T163000
DTEND;TZID=America/Chicago:20260225T171500
DTSTAMP:20260421T053218
CREATED:20230512T155823Z
LAST-MODIFIED:20240624T172830Z
UID:10151386-1772037000-1772039700@www.fitnesscenterofthibodauxregional.com
SUMMARY:LES MILLS BODY COMBAT 45
DESCRIPTION:The same fight on a trimmed down time frame! Get more bang for your buck with this 45-minute time slot. BODY COMBAT is a high-energy martial arts-inspired workout that is totally non-contact. Your instructor will lead you through an energetic class packed with charged music\, allowing you to alleviate some stress or just get a good sweat in. Zero experience needed. All levels invited.
URL:https://www.fitnesscenterofthibodauxregional.com/event/body-combat-45/2026-02-25/
LOCATION:Group Exercise Room
CATEGORIES:Cardio / Strength,Les Mills
END:VEVENT
BEGIN:VEVENT
DTSTART;TZID=America/Chicago:20260218T163000
DTEND;TZID=America/Chicago:20260218T171500
DTSTAMP:20260421T053218
CREATED:20230512T155823Z
LAST-MODIFIED:20240624T172830Z
UID:10151019-1771432200-1771434900@www.fitnesscenterofthibodauxregional.com
SUMMARY:LES MILLS BODY COMBAT 45
DESCRIPTION:The same fight on a trimmed down time frame! Get more bang for your buck with this 45-minute time slot. BODY COMBAT is a high-energy martial arts-inspired workout that is totally non-contact. Your instructor will lead you through an energetic class packed with charged music\, allowing you to alleviate some stress or just get a good sweat in. Zero experience needed. All levels invited.
URL:https://www.fitnesscenterofthibodauxregional.com/event/body-combat-45/2026-02-18/
LOCATION:Group Exercise Room
CATEGORIES:Cardio / Strength,Les Mills
END:VEVENT
BEGIN:VEVENT
DTSTART;TZID=America/Chicago:20260211T163000
DTEND;TZID=America/Chicago:20260211T171500
DTSTAMP:20260421T053218
CREATED:20230512T155823Z
LAST-MODIFIED:20240624T172830Z
UID:10150574-1770827400-1770830100@www.fitnesscenterofthibodauxregional.com
SUMMARY:LES MILLS BODY COMBAT 45
DESCRIPTION:The same fight on a trimmed down time frame! Get more bang for your buck with this 45-minute time slot. BODY COMBAT is a high-energy martial arts-inspired workout that is totally non-contact. Your instructor will lead you through an energetic class packed with charged music\, allowing you to alleviate some stress or just get a good sweat in. Zero experience needed. All levels invited.
URL:https://www.fitnesscenterofthibodauxregional.com/event/body-combat-45/2026-02-11/
LOCATION:Group Exercise Room
CATEGORIES:Cardio / Strength,Les Mills
END:VEVENT
BEGIN:VEVENT
DTSTART;TZID=America/Chicago:20260204T163000
DTEND;TZID=America/Chicago:20260204T171500
DTSTAMP:20260421T053218
CREATED:20230512T155823Z
LAST-MODIFIED:20240624T172830Z
UID:10150573-1770222600-1770225300@www.fitnesscenterofthibodauxregional.com
SUMMARY:LES MILLS BODY COMBAT 45
DESCRIPTION:The same fight on a trimmed down time frame! Get more bang for your buck with this 45-minute time slot. BODY COMBAT is a high-energy martial arts-inspired workout that is totally non-contact. Your instructor will lead you through an energetic class packed with charged music\, allowing you to alleviate some stress or just get a good sweat in. Zero experience needed. All levels invited.
URL:https://www.fitnesscenterofthibodauxregional.com/event/body-combat-45/2026-02-04/
LOCATION:Group Exercise Room
CATEGORIES:Cardio / Strength,Les Mills
END:VEVENT
BEGIN:VEVENT
DTSTART;TZID=America/Chicago:20260128T163000
DTEND;TZID=America/Chicago:20260128T171500
DTSTAMP:20260421T053218
CREATED:20230512T155823Z
LAST-MODIFIED:20240624T172830Z
UID:10150228-1769617800-1769620500@www.fitnesscenterofthibodauxregional.com
SUMMARY:LES MILLS BODY COMBAT 45
DESCRIPTION:The same fight on a trimmed down time frame! Get more bang for your buck with this 45-minute time slot. BODY COMBAT is a high-energy martial arts-inspired workout that is totally non-contact. Your instructor will lead you through an energetic class packed with charged music\, allowing you to alleviate some stress or just get a good sweat in. Zero experience needed. All levels invited.
URL:https://www.fitnesscenterofthibodauxregional.com/event/body-combat-45/2026-01-28/
LOCATION:Group Exercise Room
CATEGORIES:Cardio / Strength,Les Mills
END:VEVENT
BEGIN:VEVENT
DTSTART;TZID=America/Chicago:20260121T163000
DTEND;TZID=America/Chicago:20260121T171500
DTSTAMP:20260421T053218
CREATED:20230512T155823Z
LAST-MODIFIED:20240624T172830Z
UID:10149788-1769013000-1769015700@www.fitnesscenterofthibodauxregional.com
SUMMARY:LES MILLS BODY COMBAT 45
DESCRIPTION:The same fight on a trimmed down time frame! Get more bang for your buck with this 45-minute time slot. BODY COMBAT is a high-energy martial arts-inspired workout that is totally non-contact. Your instructor will lead you through an energetic class packed with charged music\, allowing you to alleviate some stress or just get a good sweat in. Zero experience needed. All levels invited.
URL:https://www.fitnesscenterofthibodauxregional.com/event/body-combat-45/2026-01-21/
LOCATION:Group Exercise Room
CATEGORIES:Cardio / Strength,Les Mills
END:VEVENT
BEGIN:VEVENT
DTSTART;TZID=America/Chicago:20260114T163000
DTEND;TZID=America/Chicago:20260114T171500
DTSTAMP:20260421T053218
CREATED:20230512T155823Z
LAST-MODIFIED:20240624T172830Z
UID:10149787-1768408200-1768410900@www.fitnesscenterofthibodauxregional.com
SUMMARY:LES MILLS BODY COMBAT 45
DESCRIPTION:The same fight on a trimmed down time frame! Get more bang for your buck with this 45-minute time slot. BODY COMBAT is a high-energy martial arts-inspired workout that is totally non-contact. Your instructor will lead you through an energetic class packed with charged music\, allowing you to alleviate some stress or just get a good sweat in. Zero experience needed. All levels invited.
URL:https://www.fitnesscenterofthibodauxregional.com/event/body-combat-45/2026-01-14/
LOCATION:Group Exercise Room
CATEGORIES:Cardio / Strength,Les Mills
END:VEVENT
BEGIN:VEVENT
DTSTART;TZID=America/Chicago:20260107T163000
DTEND;TZID=America/Chicago:20260107T171500
DTSTAMP:20260421T053218
CREATED:20230512T155823Z
LAST-MODIFIED:20240624T172830Z
UID:10149469-1767803400-1767806100@www.fitnesscenterofthibodauxregional.com
SUMMARY:LES MILLS BODY COMBAT 45
DESCRIPTION:The same fight on a trimmed down time frame! Get more bang for your buck with this 45-minute time slot. BODY COMBAT is a high-energy martial arts-inspired workout that is totally non-contact. Your instructor will lead you through an energetic class packed with charged music\, allowing you to alleviate some stress or just get a good sweat in. Zero experience needed. All levels invited.
URL:https://www.fitnesscenterofthibodauxregional.com/event/body-combat-45/2026-01-07/
LOCATION:Group Exercise Room
CATEGORIES:Cardio / Strength,Les Mills
END:VEVENT
BEGIN:VEVENT
DTSTART;TZID=America/Chicago:20251231T163000
DTEND;TZID=America/Chicago:20251231T171500
DTSTAMP:20260421T053218
CREATED:20230512T155823Z
LAST-MODIFIED:20240624T172830Z
UID:10149468-1767198600-1767201300@www.fitnesscenterofthibodauxregional.com
SUMMARY:LES MILLS BODY COMBAT 45
DESCRIPTION:The same fight on a trimmed down time frame! Get more bang for your buck with this 45-minute time slot. BODY COMBAT is a high-energy martial arts-inspired workout that is totally non-contact. Your instructor will lead you through an energetic class packed with charged music\, allowing you to alleviate some stress or just get a good sweat in. Zero experience needed. All levels invited.
URL:https://www.fitnesscenterofthibodauxregional.com/event/body-combat-45/2025-12-31/
LOCATION:Group Exercise Room
CATEGORIES:Cardio / Strength,Les Mills
END:VEVENT
BEGIN:VEVENT
DTSTART;TZID=America/Chicago:20251224T163000
DTEND;TZID=America/Chicago:20251224T171500
DTSTAMP:20260421T053218
CREATED:20230512T155823Z
LAST-MODIFIED:20240624T172830Z
UID:10149194-1766593800-1766596500@www.fitnesscenterofthibodauxregional.com
SUMMARY:LES MILLS BODY COMBAT 45
DESCRIPTION:The same fight on a trimmed down time frame! Get more bang for your buck with this 45-minute time slot. BODY COMBAT is a high-energy martial arts-inspired workout that is totally non-contact. Your instructor will lead you through an energetic class packed with charged music\, allowing you to alleviate some stress or just get a good sweat in. Zero experience needed. All levels invited.
URL:https://www.fitnesscenterofthibodauxregional.com/event/body-combat-45/2025-12-24/
LOCATION:Group Exercise Room
CATEGORIES:Cardio / Strength,Les Mills
END:VEVENT
BEGIN:VEVENT
DTSTART;TZID=America/Chicago:20251217T163000
DTEND;TZID=America/Chicago:20251217T171500
DTSTAMP:20260421T053218
CREATED:20230512T155823Z
LAST-MODIFIED:20240624T172830Z
UID:10148757-1765989000-1765991700@www.fitnesscenterofthibodauxregional.com
SUMMARY:LES MILLS BODY COMBAT 45
DESCRIPTION:The same fight on a trimmed down time frame! Get more bang for your buck with this 45-minute time slot. BODY COMBAT is a high-energy martial arts-inspired workout that is totally non-contact. Your instructor will lead you through an energetic class packed with charged music\, allowing you to alleviate some stress or just get a good sweat in. Zero experience needed. All levels invited.
URL:https://www.fitnesscenterofthibodauxregional.com/event/body-combat-45/2025-12-17/
LOCATION:Group Exercise Room
CATEGORIES:Cardio / Strength,Les Mills
END:VEVENT
BEGIN:VEVENT
DTSTART;TZID=America/Chicago:20251210T163000
DTEND;TZID=America/Chicago:20251210T171500
DTSTAMP:20260421T053218
CREATED:20230512T155823Z
LAST-MODIFIED:20240624T172830Z
UID:10148756-1765384200-1765386900@www.fitnesscenterofthibodauxregional.com
SUMMARY:LES MILLS BODY COMBAT 45
DESCRIPTION:The same fight on a trimmed down time frame! Get more bang for your buck with this 45-minute time slot. BODY COMBAT is a high-energy martial arts-inspired workout that is totally non-contact. Your instructor will lead you through an energetic class packed with charged music\, allowing you to alleviate some stress or just get a good sweat in. Zero experience needed. All levels invited.
URL:https://www.fitnesscenterofthibodauxregional.com/event/body-combat-45/2025-12-10/
LOCATION:Group Exercise Room
CATEGORIES:Cardio / Strength,Les Mills
END:VEVENT
BEGIN:VEVENT
DTSTART;TZID=America/Chicago:20251203T163000
DTEND;TZID=America/Chicago:20251203T171500
DTSTAMP:20260421T053218
CREATED:20230512T155823Z
LAST-MODIFIED:20240624T172830Z
UID:10148583-1764779400-1764782100@www.fitnesscenterofthibodauxregional.com
SUMMARY:LES MILLS BODY COMBAT 45
DESCRIPTION:The same fight on a trimmed down time frame! Get more bang for your buck with this 45-minute time slot. BODY COMBAT is a high-energy martial arts-inspired workout that is totally non-contact. Your instructor will lead you through an energetic class packed with charged music\, allowing you to alleviate some stress or just get a good sweat in. Zero experience needed. All levels invited.
URL:https://www.fitnesscenterofthibodauxregional.com/event/body-combat-45/2025-12-03/
LOCATION:Group Exercise Room
CATEGORIES:Cardio / Strength,Les Mills
END:VEVENT
BEGIN:VEVENT
DTSTART;TZID=America/Chicago:20251126T163000
DTEND;TZID=America/Chicago:20251126T171500
DTSTAMP:20260421T053218
CREATED:20230512T155823Z
LAST-MODIFIED:20240624T172830Z
UID:10148289-1764174600-1764177300@www.fitnesscenterofthibodauxregional.com
SUMMARY:LES MILLS BODY COMBAT 45
DESCRIPTION:The same fight on a trimmed down time frame! Get more bang for your buck with this 45-minute time slot. BODY COMBAT is a high-energy martial arts-inspired workout that is totally non-contact. Your instructor will lead you through an energetic class packed with charged music\, allowing you to alleviate some stress or just get a good sweat in. Zero experience needed. All levels invited.
URL:https://www.fitnesscenterofthibodauxregional.com/event/body-combat-45/2025-11-26/
LOCATION:Group Exercise Room
CATEGORIES:Cardio / Strength,Les Mills
END:VEVENT
BEGIN:VEVENT
DTSTART;TZID=America/Chicago:20251119T163000
DTEND;TZID=America/Chicago:20251119T171500
DTSTAMP:20260421T053218
CREATED:20230512T155823Z
LAST-MODIFIED:20240624T172830Z
UID:10148288-1763569800-1763572500@www.fitnesscenterofthibodauxregional.com
SUMMARY:LES MILLS BODY COMBAT 45
DESCRIPTION:The same fight on a trimmed down time frame! Get more bang for your buck with this 45-minute time slot. BODY COMBAT is a high-energy martial arts-inspired workout that is totally non-contact. Your instructor will lead you through an energetic class packed with charged music\, allowing you to alleviate some stress or just get a good sweat in. Zero experience needed. All levels invited.
URL:https://www.fitnesscenterofthibodauxregional.com/event/body-combat-45/2025-11-19/
LOCATION:Group Exercise Room
CATEGORIES:Cardio / Strength,Les Mills
END:VEVENT
BEGIN:VEVENT
DTSTART;TZID=America/Chicago:20251112T163000
DTEND;TZID=America/Chicago:20251112T171500
DTSTAMP:20260421T053218
CREATED:20230512T155823Z
LAST-MODIFIED:20240624T172830Z
UID:10148081-1762965000-1762967700@www.fitnesscenterofthibodauxregional.com
SUMMARY:LES MILLS BODY COMBAT 45
DESCRIPTION:The same fight on a trimmed down time frame! Get more bang for your buck with this 45-minute time slot. BODY COMBAT is a high-energy martial arts-inspired workout that is totally non-contact. Your instructor will lead you through an energetic class packed with charged music\, allowing you to alleviate some stress or just get a good sweat in. Zero experience needed. All levels invited.
URL:https://www.fitnesscenterofthibodauxregional.com/event/body-combat-45/2025-11-12/
LOCATION:Group Exercise Room
CATEGORIES:Cardio / Strength,Les Mills
END:VEVENT
BEGIN:VEVENT
DTSTART;TZID=America/Chicago:20251105T163000
DTEND;TZID=America/Chicago:20251105T171500
DTSTAMP:20260421T053218
CREATED:20230512T155823Z
LAST-MODIFIED:20240624T172830Z
UID:10147792-1762360200-1762362900@www.fitnesscenterofthibodauxregional.com
SUMMARY:LES MILLS BODY COMBAT 45
DESCRIPTION:The same fight on a trimmed down time frame! Get more bang for your buck with this 45-minute time slot. BODY COMBAT is a high-energy martial arts-inspired workout that is totally non-contact. Your instructor will lead you through an energetic class packed with charged music\, allowing you to alleviate some stress or just get a good sweat in. Zero experience needed. All levels invited.
URL:https://www.fitnesscenterofthibodauxregional.com/event/body-combat-45/2025-11-05/
LOCATION:Group Exercise Room
CATEGORIES:Cardio / Strength,Les Mills
END:VEVENT
BEGIN:VEVENT
DTSTART;TZID=America/Chicago:20251029T163000
DTEND;TZID=America/Chicago:20251029T171500
DTSTAMP:20260421T053218
CREATED:20230512T155823Z
LAST-MODIFIED:20240624T172830Z
UID:10147791-1761755400-1761758100@www.fitnesscenterofthibodauxregional.com
SUMMARY:LES MILLS BODY COMBAT 45
DESCRIPTION:The same fight on a trimmed down time frame! Get more bang for your buck with this 45-minute time slot. BODY COMBAT is a high-energy martial arts-inspired workout that is totally non-contact. Your instructor will lead you through an energetic class packed with charged music\, allowing you to alleviate some stress or just get a good sweat in. Zero experience needed. All levels invited.
URL:https://www.fitnesscenterofthibodauxregional.com/event/body-combat-45/2025-10-29/
LOCATION:Group Exercise Room
CATEGORIES:Cardio / Strength,Les Mills
END:VEVENT
BEGIN:VEVENT
DTSTART;TZID=America/Chicago:20251022T163000
DTEND;TZID=America/Chicago:20251022T171500
DTSTAMP:20260421T053218
CREATED:20230512T155823Z
LAST-MODIFIED:20240624T172830Z
UID:10147552-1761150600-1761153300@www.fitnesscenterofthibodauxregional.com
SUMMARY:LES MILLS BODY COMBAT 45
DESCRIPTION:The same fight on a trimmed down time frame! Get more bang for your buck with this 45-minute time slot. BODY COMBAT is a high-energy martial arts-inspired workout that is totally non-contact. Your instructor will lead you through an energetic class packed with charged music\, allowing you to alleviate some stress or just get a good sweat in. Zero experience needed. All levels invited.
URL:https://www.fitnesscenterofthibodauxregional.com/event/body-combat-45/2025-10-22/
LOCATION:Group Exercise Room
CATEGORIES:Cardio / Strength,Les Mills
END:VEVENT
BEGIN:VEVENT
DTSTART;TZID=America/Chicago:20251015T163000
DTEND;TZID=America/Chicago:20251015T171500
DTSTAMP:20260421T053218
CREATED:20230512T155823Z
LAST-MODIFIED:20240624T172830Z
UID:10147551-1760545800-1760548500@www.fitnesscenterofthibodauxregional.com
SUMMARY:LES MILLS BODY COMBAT 45
DESCRIPTION:The same fight on a trimmed down time frame! Get more bang for your buck with this 45-minute time slot. BODY COMBAT is a high-energy martial arts-inspired workout that is totally non-contact. Your instructor will lead you through an energetic class packed with charged music\, allowing you to alleviate some stress or just get a good sweat in. Zero experience needed. All levels invited.
URL:https://www.fitnesscenterofthibodauxregional.com/event/body-combat-45/2025-10-15/
LOCATION:Group Exercise Room
CATEGORIES:Cardio / Strength,Les Mills
END:VEVENT
BEGIN:VEVENT
DTSTART;TZID=America/Chicago:20251008T163000
DTEND;TZID=America/Chicago:20251008T171500
DTSTAMP:20260421T053218
CREATED:20230512T155823Z
LAST-MODIFIED:20240624T172830Z
UID:10147244-1759941000-1759943700@www.fitnesscenterofthibodauxregional.com
SUMMARY:LES MILLS BODY COMBAT 45
DESCRIPTION:The same fight on a trimmed down time frame! Get more bang for your buck with this 45-minute time slot. BODY COMBAT is a high-energy martial arts-inspired workout that is totally non-contact. Your instructor will lead you through an energetic class packed with charged music\, allowing you to alleviate some stress or just get a good sweat in. Zero experience needed. All levels invited.
URL:https://www.fitnesscenterofthibodauxregional.com/event/body-combat-45/2025-10-08/
LOCATION:Group Exercise Room
CATEGORIES:Cardio / Strength,Les Mills
END:VEVENT
BEGIN:VEVENT
DTSTART;TZID=America/Chicago:20251001T163000
DTEND;TZID=America/Chicago:20251001T171500
DTSTAMP:20260421T053218
CREATED:20230512T155823Z
LAST-MODIFIED:20240624T172830Z
UID:10146978-1759336200-1759338900@www.fitnesscenterofthibodauxregional.com
SUMMARY:LES MILLS BODY COMBAT 45
DESCRIPTION:The same fight on a trimmed down time frame! Get more bang for your buck with this 45-minute time slot. BODY COMBAT is a high-energy martial arts-inspired workout that is totally non-contact. Your instructor will lead you through an energetic class packed with charged music\, allowing you to alleviate some stress or just get a good sweat in. Zero experience needed. All levels invited.
URL:https://www.fitnesscenterofthibodauxregional.com/event/body-combat-45/2025-10-01/
LOCATION:Group Exercise Room
CATEGORIES:Cardio / Strength,Les Mills
END:VEVENT
BEGIN:VEVENT
DTSTART;TZID=America/Chicago:20250924T163000
DTEND;TZID=America/Chicago:20250924T171500
DTSTAMP:20260421T053218
CREATED:20230512T155823Z
LAST-MODIFIED:20240624T172830Z
UID:10146977-1758731400-1758734100@www.fitnesscenterofthibodauxregional.com
SUMMARY:LES MILLS BODY COMBAT 45
DESCRIPTION:The same fight on a trimmed down time frame! Get more bang for your buck with this 45-minute time slot. BODY COMBAT is a high-energy martial arts-inspired workout that is totally non-contact. Your instructor will lead you through an energetic class packed with charged music\, allowing you to alleviate some stress or just get a good sweat in. Zero experience needed. All levels invited.
URL:https://www.fitnesscenterofthibodauxregional.com/event/body-combat-45/2025-09-24/
LOCATION:Group Exercise Room
CATEGORIES:Cardio / Strength,Les Mills
END:VEVENT
END:VCALENDAR