BEGIN:VCALENDAR
VERSION:2.0
PRODID:-//Thibodaux Regional Fitness Center - ECPv6.15.20//NONSGML v1.0//EN
CALSCALE:GREGORIAN
METHOD:PUBLISH
X-ORIGINAL-URL:https://www.fitnesscenterofthibodauxregional.com
X-WR-CALDESC:Events for Thibodaux Regional Fitness Center
REFRESH-INTERVAL;VALUE=DURATION:PT1H
X-Robots-Tag:noindex
X-PUBLISHED-TTL:PT1H
BEGIN:VTIMEZONE
TZID:America/Chicago
BEGIN:DAYLIGHT
TZOFFSETFROM:-0600
TZOFFSETTO:-0500
TZNAME:CDT
DTSTART:20250309T080000
END:DAYLIGHT
BEGIN:STANDARD
TZOFFSETFROM:-0500
TZOFFSETTO:-0600
TZNAME:CST
DTSTART:20251102T070000
END:STANDARD
BEGIN:DAYLIGHT
TZOFFSETFROM:-0600
TZOFFSETTO:-0500
TZNAME:CDT
DTSTART:20260308T080000
END:DAYLIGHT
BEGIN:STANDARD
TZOFFSETFROM:-0500
TZOFFSETTO:-0600
TZNAME:CST
DTSTART:20261101T070000
END:STANDARD
BEGIN:DAYLIGHT
TZOFFSETFROM:-0600
TZOFFSETTO:-0500
TZNAME:CDT
DTSTART:20270314T080000
END:DAYLIGHT
BEGIN:STANDARD
TZOFFSETFROM:-0500
TZOFFSETTO:-0600
TZNAME:CST
DTSTART:20271107T070000
END:STANDARD
END:VTIMEZONE
BEGIN:VEVENT
DTSTART;TZID=America/Chicago:20260422T163000
DTEND;TZID=America/Chicago:20260422T171500
DTSTAMP:20260419T084530
CREATED:20230512T155823Z
LAST-MODIFIED:20240624T172830Z
UID:10152738-1776875400-1776878100@www.fitnesscenterofthibodauxregional.com
SUMMARY:LES MILLS BODY COMBAT 45
DESCRIPTION:The same fight on a trimmed down time frame! Get more bang for your buck with this 45-minute time slot. BODY COMBAT is a high-energy martial arts-inspired workout that is totally non-contact. Your instructor will lead you through an energetic class packed with charged music\, allowing you to alleviate some stress or just get a good sweat in. Zero experience needed. All levels invited.
URL:https://www.fitnesscenterofthibodauxregional.com/event/body-combat-45/2026-04-22/
LOCATION:Group Exercise Room
CATEGORIES:Cardio / Strength,Les Mills
END:VEVENT
BEGIN:VEVENT
DTSTART;TZID=America/Chicago:20260429T163000
DTEND;TZID=America/Chicago:20260429T171500
DTSTAMP:20260419T084530
CREATED:20230512T155823Z
LAST-MODIFIED:20240624T172830Z
UID:10152739-1777480200-1777482900@www.fitnesscenterofthibodauxregional.com
SUMMARY:LES MILLS BODY COMBAT 45
DESCRIPTION:The same fight on a trimmed down time frame! Get more bang for your buck with this 45-minute time slot. BODY COMBAT is a high-energy martial arts-inspired workout that is totally non-contact. Your instructor will lead you through an energetic class packed with charged music\, allowing you to alleviate some stress or just get a good sweat in. Zero experience needed. All levels invited.
URL:https://www.fitnesscenterofthibodauxregional.com/event/body-combat-45/2026-04-29/
LOCATION:Group Exercise Room
CATEGORIES:Cardio / Strength,Les Mills
END:VEVENT
BEGIN:VEVENT
DTSTART;TZID=America/Chicago:20260506T163000
DTEND;TZID=America/Chicago:20260506T171500
DTSTAMP:20260419T084530
CREATED:20230512T155823Z
LAST-MODIFIED:20240624T172830Z
UID:10153001-1778085000-1778087700@www.fitnesscenterofthibodauxregional.com
SUMMARY:LES MILLS BODY COMBAT 45
DESCRIPTION:The same fight on a trimmed down time frame! Get more bang for your buck with this 45-minute time slot. BODY COMBAT is a high-energy martial arts-inspired workout that is totally non-contact. Your instructor will lead you through an energetic class packed with charged music\, allowing you to alleviate some stress or just get a good sweat in. Zero experience needed. All levels invited.
URL:https://www.fitnesscenterofthibodauxregional.com/event/body-combat-45/2026-05-06/
LOCATION:Group Exercise Room
CATEGORIES:Cardio / Strength,Les Mills
END:VEVENT
BEGIN:VEVENT
DTSTART;TZID=America/Chicago:20260513T163000
DTEND;TZID=America/Chicago:20260513T171500
DTSTAMP:20260419T084530
CREATED:20230512T155823Z
LAST-MODIFIED:20240624T172830Z
UID:10153308-1778689800-1778692500@www.fitnesscenterofthibodauxregional.com
SUMMARY:LES MILLS BODY COMBAT 45
DESCRIPTION:The same fight on a trimmed down time frame! Get more bang for your buck with this 45-minute time slot. BODY COMBAT is a high-energy martial arts-inspired workout that is totally non-contact. Your instructor will lead you through an energetic class packed with charged music\, allowing you to alleviate some stress or just get a good sweat in. Zero experience needed. All levels invited.
URL:https://www.fitnesscenterofthibodauxregional.com/event/body-combat-45/2026-05-13/
LOCATION:Group Exercise Room
CATEGORIES:Cardio / Strength,Les Mills
END:VEVENT
BEGIN:VEVENT
DTSTART;TZID=America/Chicago:20260520T163000
DTEND;TZID=America/Chicago:20260520T171500
DTSTAMP:20260419T084530
CREATED:20230512T155823Z
LAST-MODIFIED:20240624T172830Z
UID:10153309-1779294600-1779297300@www.fitnesscenterofthibodauxregional.com
SUMMARY:LES MILLS BODY COMBAT 45
DESCRIPTION:The same fight on a trimmed down time frame! Get more bang for your buck with this 45-minute time slot. BODY COMBAT is a high-energy martial arts-inspired workout that is totally non-contact. Your instructor will lead you through an energetic class packed with charged music\, allowing you to alleviate some stress or just get a good sweat in. Zero experience needed. All levels invited.
URL:https://www.fitnesscenterofthibodauxregional.com/event/body-combat-45/2026-05-20/
LOCATION:Group Exercise Room
CATEGORIES:Cardio / Strength,Les Mills
END:VEVENT
BEGIN:VEVENT
DTSTART;TZID=America/Chicago:20260527T163000
DTEND;TZID=America/Chicago:20260527T171500
DTSTAMP:20260419T084530
CREATED:20230512T155823Z
LAST-MODIFIED:20240624T172830Z
UID:10153609-1779899400-1779902100@www.fitnesscenterofthibodauxregional.com
SUMMARY:LES MILLS BODY COMBAT 45
DESCRIPTION:The same fight on a trimmed down time frame! Get more bang for your buck with this 45-minute time slot. BODY COMBAT is a high-energy martial arts-inspired workout that is totally non-contact. Your instructor will lead you through an energetic class packed with charged music\, allowing you to alleviate some stress or just get a good sweat in. Zero experience needed. All levels invited.
URL:https://www.fitnesscenterofthibodauxregional.com/event/body-combat-45/2026-05-27/
LOCATION:Group Exercise Room
CATEGORIES:Cardio / Strength,Les Mills
END:VEVENT
BEGIN:VEVENT
DTSTART;TZID=America/Chicago:20260603T163000
DTEND;TZID=America/Chicago:20260603T171500
DTSTAMP:20260419T084530
CREATED:20230512T155823Z
LAST-MODIFIED:20240624T172830Z
UID:10153610-1780504200-1780506900@www.fitnesscenterofthibodauxregional.com
SUMMARY:LES MILLS BODY COMBAT 45
DESCRIPTION:The same fight on a trimmed down time frame! Get more bang for your buck with this 45-minute time slot. BODY COMBAT is a high-energy martial arts-inspired workout that is totally non-contact. Your instructor will lead you through an energetic class packed with charged music\, allowing you to alleviate some stress or just get a good sweat in. Zero experience needed. All levels invited.
URL:https://www.fitnesscenterofthibodauxregional.com/event/body-combat-45/2026-06-03/
LOCATION:Group Exercise Room
CATEGORIES:Cardio / Strength,Les Mills
END:VEVENT
BEGIN:VEVENT
DTSTART;TZID=America/Chicago:20260610T163000
DTEND;TZID=America/Chicago:20260610T171500
DTSTAMP:20260419T084530
CREATED:20230512T155823Z
LAST-MODIFIED:20240624T172830Z
UID:10153913-1781109000-1781111700@www.fitnesscenterofthibodauxregional.com
SUMMARY:LES MILLS BODY COMBAT 45
DESCRIPTION:The same fight on a trimmed down time frame! Get more bang for your buck with this 45-minute time slot. BODY COMBAT is a high-energy martial arts-inspired workout that is totally non-contact. Your instructor will lead you through an energetic class packed with charged music\, allowing you to alleviate some stress or just get a good sweat in. Zero experience needed. All levels invited.
URL:https://www.fitnesscenterofthibodauxregional.com/event/body-combat-45/2026-06-10/
LOCATION:Group Exercise Room
CATEGORIES:Cardio / Strength,Les Mills
END:VEVENT
BEGIN:VEVENT
DTSTART;TZID=America/Chicago:20260617T163000
DTEND;TZID=America/Chicago:20260617T171500
DTSTAMP:20260419T084530
CREATED:20230512T155823Z
LAST-MODIFIED:20240624T172830Z
UID:10153914-1781713800-1781716500@www.fitnesscenterofthibodauxregional.com
SUMMARY:LES MILLS BODY COMBAT 45
DESCRIPTION:The same fight on a trimmed down time frame! Get more bang for your buck with this 45-minute time slot. BODY COMBAT is a high-energy martial arts-inspired workout that is totally non-contact. Your instructor will lead you through an energetic class packed with charged music\, allowing you to alleviate some stress or just get a good sweat in. Zero experience needed. All levels invited.
URL:https://www.fitnesscenterofthibodauxregional.com/event/body-combat-45/2026-06-17/
LOCATION:Group Exercise Room
CATEGORIES:Cardio / Strength,Les Mills
END:VEVENT
BEGIN:VEVENT
DTSTART;TZID=America/Chicago:20260624T163000
DTEND;TZID=America/Chicago:20260624T171500
DTSTAMP:20260419T084530
CREATED:20230512T155823Z
LAST-MODIFIED:20240624T172830Z
UID:10154212-1782318600-1782321300@www.fitnesscenterofthibodauxregional.com
SUMMARY:LES MILLS BODY COMBAT 45
DESCRIPTION:The same fight on a trimmed down time frame! Get more bang for your buck with this 45-minute time slot. BODY COMBAT is a high-energy martial arts-inspired workout that is totally non-contact. Your instructor will lead you through an energetic class packed with charged music\, allowing you to alleviate some stress or just get a good sweat in. Zero experience needed. All levels invited.
URL:https://www.fitnesscenterofthibodauxregional.com/event/body-combat-45/2026-06-24/
LOCATION:Group Exercise Room
CATEGORIES:Cardio / Strength,Les Mills
END:VEVENT
BEGIN:VEVENT
DTSTART;TZID=America/Chicago:20260701T163000
DTEND;TZID=America/Chicago:20260701T171500
DTSTAMP:20260419T084530
CREATED:20230512T155823Z
LAST-MODIFIED:20240624T172830Z
UID:10154480-1782923400-1782926100@www.fitnesscenterofthibodauxregional.com
SUMMARY:LES MILLS BODY COMBAT 45
DESCRIPTION:The same fight on a trimmed down time frame! Get more bang for your buck with this 45-minute time slot. BODY COMBAT is a high-energy martial arts-inspired workout that is totally non-contact. Your instructor will lead you through an energetic class packed with charged music\, allowing you to alleviate some stress or just get a good sweat in. Zero experience needed. All levels invited.
URL:https://www.fitnesscenterofthibodauxregional.com/event/body-combat-45/2026-07-01/
LOCATION:Group Exercise Room
CATEGORIES:Cardio / Strength,Les Mills
END:VEVENT
BEGIN:VEVENT
DTSTART;TZID=America/Chicago:20260708T163000
DTEND;TZID=America/Chicago:20260708T171500
DTSTAMP:20260419T084530
CREATED:20230512T155823Z
LAST-MODIFIED:20240624T172830Z
UID:10154481-1783528200-1783530900@www.fitnesscenterofthibodauxregional.com
SUMMARY:LES MILLS BODY COMBAT 45
DESCRIPTION:The same fight on a trimmed down time frame! Get more bang for your buck with this 45-minute time slot. BODY COMBAT is a high-energy martial arts-inspired workout that is totally non-contact. Your instructor will lead you through an energetic class packed with charged music\, allowing you to alleviate some stress or just get a good sweat in. Zero experience needed. All levels invited.
URL:https://www.fitnesscenterofthibodauxregional.com/event/body-combat-45/2026-07-08/
LOCATION:Group Exercise Room
CATEGORIES:Cardio / Strength,Les Mills
END:VEVENT
END:VCALENDAR